BEGIN:VCALENDAR
VERSION:2.0
PRODID:-//Carnegie Museum of Natural History - ECPv6.7.0//NONSGML v1.0//EN
CALSCALE:GREGORIAN
METHOD:PUBLISH
X-ORIGINAL-URL:https://carnegiemnh.org
X-WR-CALDESC:Events for Carnegie Museum of Natural History
REFRESH-INTERVAL;VALUE=DURATION:PT1H
X-Robots-Tag:noindex
X-PUBLISHED-TTL:PT1H
BEGIN:VTIMEZONE
TZID:America/New_York
BEGIN:DAYLIGHT
TZOFFSETFROM:-0500
TZOFFSETTO:-0400
TZNAME:EDT
DTSTART:20210314T070000
END:DAYLIGHT
BEGIN:STANDARD
TZOFFSETFROM:-0400
TZOFFSETTO:-0500
TZNAME:EST
DTSTART:20211107T060000
END:STANDARD
END:VTIMEZONE
BEGIN:VEVENT
DTSTART;TZID=America/New_York:20211004T130000
DTEND;TZID=America/New_York:20211004T153000
DTSTAMP:20260419T190027
CREATED:20210811T191348Z
LAST-MODIFIED:20210903T141954Z
UID:17372-1633352400-1633361400@carnegiemnh.org
SUMMARY:Homeschool Class: It’s About Time (Ages 8-10)
DESCRIPTION:Grab your time travel gear and explore a different mystery from the past during each class!  From life before dinosaurs to the present day\, analyze fossils and artifacts that document how life on Earth has changed over time.  Document your discoveries in a scientific journal\, and create unique artifacts illustrating your own history! \nSee All Homeschool Classes \n\nHomeschool Class Schedule\nMeets in person on Mondays: October 4\, 11\, 18\, 25 & November 1Runs from 1 p.m. to 3:30 p.m.Class Meets at: CME Portal EntryLast day to register is Monday\, September 27\, 2021Please register once per student per class series.Capacities are limited and all staff and participants are required to adhere to current public health and Carnegie Museums of Pittsburgh procedures. \n\n\nHomeschool Class Registration\n[swcheckout site=”6″ item=”108592″] \n\n 
URL:https://carnegiemnh.org/event/homeschool-class-its-about-time/2021-10-04/
LOCATION:At the Museum\, 4400 Forbes Avenue\, Pittsburgh\, PA\, 15213-4007\, United States
CATEGORIES:Classes and Workshops
ATTACH;FMTTYPE=image/jpeg:https://carnegiemnh.org/wp-content/uploads/2021/08/Itsabouttimephoto-1.jpg
END:VEVENT
END:VCALENDAR