BEGIN:VCALENDAR
VERSION:2.0
PRODID:-//Carnegie Museum of Natural History - ECPv6.7.0//NONSGML v1.0//EN
CALSCALE:GREGORIAN
METHOD:PUBLISH
X-ORIGINAL-URL:https://carnegiemnh.org
X-WR-CALDESC:Events for Carnegie Museum of Natural History
REFRESH-INTERVAL;VALUE=DURATION:PT1H
X-Robots-Tag:noindex
X-PUBLISHED-TTL:PT1H
BEGIN:VTIMEZONE
TZID:America/New_York
BEGIN:DAYLIGHT
TZOFFSETFROM:-0500
TZOFFSETTO:-0400
TZNAME:EDT
DTSTART:20190310T070000
END:DAYLIGHT
BEGIN:STANDARD
TZOFFSETFROM:-0400
TZOFFSETTO:-0500
TZNAME:EST
DTSTART:20191103T060000
END:STANDARD
END:VTIMEZONE
BEGIN:VEVENT
DTSTART;VALUE=DATE:20191116
DTEND;VALUE=DATE:20191117
DTSTAMP:20260423T060057
CREATED:20191029T204244Z
LAST-MODIFIED:20211109T164740Z
UID:11352-1573862400-1573948799@carnegiemnh.org
SUMMARY:National Geographic: 50 Greatest Wildlife Photographs
DESCRIPTION:
URL:https://carnegiemnh.org/event/national-geographic-50-greatest-wildlife-photographs/2019-11-16/
ATTACH;FMTTYPE=image/jpeg:https://carnegiemnh.org/wp-content/uploads/2019/09/NatGeoPanda-tile.jpg
END:VEVENT
END:VCALENDAR