BEGIN:VCALENDAR
VERSION:2.0
PRODID:-//Carnegie Museum of Natural History - ECPv6.7.0//NONSGML v1.0//EN
CALSCALE:GREGORIAN
METHOD:PUBLISH
X-ORIGINAL-URL:https://carnegiemnh.org
X-WR-CALDESC:Events for Carnegie Museum of Natural History
REFRESH-INTERVAL;VALUE=DURATION:PT1H
X-Robots-Tag:noindex
X-PUBLISHED-TTL:PT1H
BEGIN:VTIMEZONE
TZID:America/New_York
BEGIN:DAYLIGHT
TZOFFSETFROM:-0500
TZOFFSETTO:-0400
TZNAME:EDT
DTSTART:20230312T070000
END:DAYLIGHT
BEGIN:STANDARD
TZOFFSETFROM:-0400
TZOFFSETTO:-0500
TZNAME:EST
DTSTART:20231105T060000
END:STANDARD
END:VTIMEZONE
BEGIN:VEVENT
DTSTART;TZID=America/New_York:20230513T080000
DTEND;TZID=America/New_York:20230513T103000
DTSTAMP:20260421T221311
CREATED:20221114T203942Z
LAST-MODIFIED:20221114T203942Z
UID:20194-1683964800-1683973800@carnegiemnh.org
SUMMARY:Powdermill Avian Research Center Free Guided Tour and Bird Walk
DESCRIPTION:Powdermill Avian Research Center (PARC) offers FREE guided tours of the bird banding lab and research facility. Attendees must arrive by 8:00 a.m. in order to join the tour. These behind-the-scenes experiences allow people to visit the bird banding lab and see up-close how researchers safely capture and band birds\, and learn about the data they gather. Visitors will also be guided to PARC’s flight tunnel to hear about how we’re studying avian perception of glass to provide glass manufacturers and building designers with important information that will help reduce bird-window collisions. On your tour\, you’ll have the opportunity to chat with the scientists on staff\, and perhaps visiting researchers\, about the other projects being conducted at PARC. After the tour\, we will go on a guided bird walk. This event is weather dependent and will be canceled due to heat (>78 degrees)\, strong winds\, or inclement weather. \nGuests must pre-register for the tour and arrive at PARC by 8:00 a.m. \n\nPARC Free Guided Tour and Bird Walk\nSaturday May 13\, 2023 8 a.m. – 10:30 a.m.\n[swcheckout site=”6″ item=”118178″] \n\n 
URL:https://carnegiemnh.org/event/powdermill-avian-research-center-free-guided-tour-and-bird-walk/
LOCATION:Powdermill Nature Reserve\, 1795 Route 381\, Rector\, PA\, 15677\, United States
CATEGORIES:Powdermill
ATTACH;FMTTYPE=image/jpeg:https://carnegiemnh.org/wp-content/uploads/2021/03/11a5056932d038b54999b426392bb94b836e427e.jpg
GEO:40.1594406;-79.2720589
X-APPLE-STRUCTURED-LOCATION;VALUE=URI;X-ADDRESS=Powdermill Nature Reserve 1795 Route 381 Rector PA 15677 United States;X-APPLE-RADIUS=500;X-TITLE=1795 Route 381:geo:-79.2720589,40.1594406
END:VEVENT
END:VCALENDAR